BEGIN:VCALENDAR
VERSION:2.0
PRODID:-//Nuevo Amanecer Pereira - ECPv6.15.13//NONSGML v1.0//EN
CALSCALE:GREGORIAN
METHOD:PUBLISH
X-WR-CALNAME:Nuevo Amanecer Pereira
X-ORIGINAL-URL:https://nuevoamanecerpereira.com
X-WR-CALDESC:Eventos para Nuevo Amanecer Pereira
REFRESH-INTERVAL;VALUE=DURATION:PT1H
X-Robots-Tag:noindex
X-PUBLISHED-TTL:PT1H
BEGIN:VTIMEZONE
TZID:America/Bogota
BEGIN:STANDARD
TZOFFSETFROM:-0500
TZOFFSETTO:-0500
TZNAME:-05
DTSTART:20210101T000000
END:STANDARD
END:VTIMEZONE
BEGIN:VEVENT
DTSTART;TZID=America/Bogota:20220817T190000
DTEND;TZID=America/Bogota:20220817T203000
DTSTAMP:20260420T074529
CREATED:20211006T134223Z
LAST-MODIFIED:20211006T134223Z
UID:1181-1660762800-1660768200@nuevoamanecerpereira.com
SUMMARY:Servicio Miércoles
DESCRIPTION:Inscríbete a nuestro servicio del miércoles llenando el siguiente formulario: \n\n\n  \n\n\n\n Nombres\n \n \n Apellidos\n \n \n Email\n \n \n Cedula\n \n \n Celular\n \n \n Dirección\n \n \n Ha tenido usted contacto con personas que hayan sido diagnosticadas o tengan sintomas de Covid-19 en los últimos 10 días?\nSiNo \n \n Ha sido usted diagnosticado con Covid-19 o ha presentado los sintomas de este en los últimos 10 días?\nSiNo \n \n[counter formid:340]
URL:https://nuevoamanecerpereira.com/eventos/servicio-miercoles-2022-08-17/
LOCATION:Auditorio Nuevo Amanecer\, Calle 41 Nº 11-26 Sector Maraya\, Pereira\, Risaralda\, 660001\, Colombia
END:VEVENT
BEGIN:VEVENT
DTSTART;TZID=America/Bogota:20220814T103000
DTEND;TZID=America/Bogota:20220814T120000
DTSTAMP:20260420T074529
CREATED:20211009T160749Z
LAST-MODIFIED:20211009T160749Z
UID:1180-1660473000-1660478400@nuevoamanecerpereira.com
SUMMARY:Servicio 10:30 a.m.
DESCRIPTION:Inscríbete a nuestro servicio dominical de las 10:30 a.m. llenando el siguiente formulario: \n\n\n  \n\n\n\n Nombres\n \n \n Apellidos\n \n \n Email\n \n \n Cedula\n \n \n Celular\n \n \n Dirección\n \n \n Ha tenido usted contacto con personas que hayan sido diagnosticadas o tengan sintomas de Covid-19 en los últimos 10 días?\nSiNo \n \n Ha sido usted diagnosticado con Covid-19 o ha presentado los sintomas de este en los últimos 10 días?\nSiNo \n \n[counter formid:861]
URL:https://nuevoamanecerpereira.com/eventos/servicio-1030-a-m-2022-08-14/
LOCATION:Auditorio Nuevo Amanecer\, Calle 41 Nº 11-26 Sector Maraya\, Pereira\, Risaralda\, 660001\, Colombia
END:VEVENT
BEGIN:VEVENT
DTSTART;TZID=America/Bogota:20220810T190000
DTEND;TZID=America/Bogota:20220810T203000
DTSTAMP:20260420T074529
CREATED:20211006T134223Z
LAST-MODIFIED:20211006T134223Z
UID:1179-1660158000-1660163400@nuevoamanecerpereira.com
SUMMARY:Servicio Miércoles
DESCRIPTION:Inscríbete a nuestro servicio del miércoles llenando el siguiente formulario: \n\n\n  \n\n\n\n Nombres\n \n \n Apellidos\n \n \n Email\n \n \n Cedula\n \n \n Celular\n \n \n Dirección\n \n \n Ha tenido usted contacto con personas que hayan sido diagnosticadas o tengan sintomas de Covid-19 en los últimos 10 días?\nSiNo \n \n Ha sido usted diagnosticado con Covid-19 o ha presentado los sintomas de este en los últimos 10 días?\nSiNo \n \n[counter formid:340]
URL:https://nuevoamanecerpereira.com/eventos/servicio-miercoles-2022-08-10/
LOCATION:Auditorio Nuevo Amanecer\, Calle 41 Nº 11-26 Sector Maraya\, Pereira\, Risaralda\, 660001\, Colombia
END:VEVENT
BEGIN:VEVENT
DTSTART;TZID=America/Bogota:20220807T103000
DTEND;TZID=America/Bogota:20220807T120000
DTSTAMP:20260420T074529
CREATED:20211009T160749Z
LAST-MODIFIED:20211009T160749Z
UID:1178-1659868200-1659873600@nuevoamanecerpereira.com
SUMMARY:Servicio 10:30 a.m.
DESCRIPTION:Inscríbete a nuestro servicio dominical de las 10:30 a.m. llenando el siguiente formulario: \n\n\n  \n\n\n\n Nombres\n \n \n Apellidos\n \n \n Email\n \n \n Cedula\n \n \n Celular\n \n \n Dirección\n \n \n Ha tenido usted contacto con personas que hayan sido diagnosticadas o tengan sintomas de Covid-19 en los últimos 10 días?\nSiNo \n \n Ha sido usted diagnosticado con Covid-19 o ha presentado los sintomas de este en los últimos 10 días?\nSiNo \n \n[counter formid:861]
URL:https://nuevoamanecerpereira.com/eventos/servicio-1030-a-m-2022-08-07/
LOCATION:Auditorio Nuevo Amanecer\, Calle 41 Nº 11-26 Sector Maraya\, Pereira\, Risaralda\, 660001\, Colombia
END:VEVENT
BEGIN:VEVENT
DTSTART;TZID=America/Bogota:20220803T190000
DTEND;TZID=America/Bogota:20220803T203000
DTSTAMP:20260420T074529
CREATED:20211006T134223Z
LAST-MODIFIED:20211006T134223Z
UID:1177-1659553200-1659558600@nuevoamanecerpereira.com
SUMMARY:Servicio Miércoles
DESCRIPTION:Inscríbete a nuestro servicio del miércoles llenando el siguiente formulario: \n\n\n  \n\n\n\n Nombres\n \n \n Apellidos\n \n \n Email\n \n \n Cedula\n \n \n Celular\n \n \n Dirección\n \n \n Ha tenido usted contacto con personas que hayan sido diagnosticadas o tengan sintomas de Covid-19 en los últimos 10 días?\nSiNo \n \n Ha sido usted diagnosticado con Covid-19 o ha presentado los sintomas de este en los últimos 10 días?\nSiNo \n \n[counter formid:340]
URL:https://nuevoamanecerpereira.com/eventos/servicio-miercoles-2022-08-03/
LOCATION:Auditorio Nuevo Amanecer\, Calle 41 Nº 11-26 Sector Maraya\, Pereira\, Risaralda\, 660001\, Colombia
END:VEVENT
BEGIN:VEVENT
DTSTART;TZID=America/Bogota:20220731T103000
DTEND;TZID=America/Bogota:20220731T120000
DTSTAMP:20260420T074529
CREATED:20211009T160749Z
LAST-MODIFIED:20211009T160749Z
UID:1176-1659263400-1659268800@nuevoamanecerpereira.com
SUMMARY:Servicio 10:30 a.m.
DESCRIPTION:Inscríbete a nuestro servicio dominical de las 10:30 a.m. llenando el siguiente formulario: \n\n\n  \n\n\n\n Nombres\n \n \n Apellidos\n \n \n Email\n \n \n Cedula\n \n \n Celular\n \n \n Dirección\n \n \n Ha tenido usted contacto con personas que hayan sido diagnosticadas o tengan sintomas de Covid-19 en los últimos 10 días?\nSiNo \n \n Ha sido usted diagnosticado con Covid-19 o ha presentado los sintomas de este en los últimos 10 días?\nSiNo \n \n[counter formid:861]
URL:https://nuevoamanecerpereira.com/eventos/servicio-1030-a-m-2022-07-31/
LOCATION:Auditorio Nuevo Amanecer\, Calle 41 Nº 11-26 Sector Maraya\, Pereira\, Risaralda\, 660001\, Colombia
END:VEVENT
BEGIN:VEVENT
DTSTART;TZID=America/Bogota:20220727T190000
DTEND;TZID=America/Bogota:20220727T203000
DTSTAMP:20260420T074529
CREATED:20211006T134223Z
LAST-MODIFIED:20211006T134223Z
UID:1175-1658948400-1658953800@nuevoamanecerpereira.com
SUMMARY:Servicio Miércoles
DESCRIPTION:Inscríbete a nuestro servicio del miércoles llenando el siguiente formulario: \n\n\n  \n\n\n\n Nombres\n \n \n Apellidos\n \n \n Email\n \n \n Cedula\n \n \n Celular\n \n \n Dirección\n \n \n Ha tenido usted contacto con personas que hayan sido diagnosticadas o tengan sintomas de Covid-19 en los últimos 10 días?\nSiNo \n \n Ha sido usted diagnosticado con Covid-19 o ha presentado los sintomas de este en los últimos 10 días?\nSiNo \n \n[counter formid:340]
URL:https://nuevoamanecerpereira.com/eventos/servicio-miercoles-2022-07-27/
LOCATION:Auditorio Nuevo Amanecer\, Calle 41 Nº 11-26 Sector Maraya\, Pereira\, Risaralda\, 660001\, Colombia
END:VEVENT
BEGIN:VEVENT
DTSTART;TZID=America/Bogota:20220724T103000
DTEND;TZID=America/Bogota:20220724T120000
DTSTAMP:20260420T074529
CREATED:20211009T160749Z
LAST-MODIFIED:20211009T160749Z
UID:1174-1658658600-1658664000@nuevoamanecerpereira.com
SUMMARY:Servicio 10:30 a.m.
DESCRIPTION:Inscríbete a nuestro servicio dominical de las 10:30 a.m. llenando el siguiente formulario: \n\n\n  \n\n\n\n Nombres\n \n \n Apellidos\n \n \n Email\n \n \n Cedula\n \n \n Celular\n \n \n Dirección\n \n \n Ha tenido usted contacto con personas que hayan sido diagnosticadas o tengan sintomas de Covid-19 en los últimos 10 días?\nSiNo \n \n Ha sido usted diagnosticado con Covid-19 o ha presentado los sintomas de este en los últimos 10 días?\nSiNo \n \n[counter formid:861]
URL:https://nuevoamanecerpereira.com/eventos/servicio-1030-a-m-2022-07-24/
LOCATION:Auditorio Nuevo Amanecer\, Calle 41 Nº 11-26 Sector Maraya\, Pereira\, Risaralda\, 660001\, Colombia
END:VEVENT
BEGIN:VEVENT
DTSTART;TZID=America/Bogota:20220720T190000
DTEND;TZID=America/Bogota:20220720T203000
DTSTAMP:20260420T074529
CREATED:20211006T134223Z
LAST-MODIFIED:20211006T134223Z
UID:1171-1658343600-1658349000@nuevoamanecerpereira.com
SUMMARY:Servicio Miércoles
DESCRIPTION:Inscríbete a nuestro servicio del miércoles llenando el siguiente formulario: \n\n\n  \n\n\n\n Nombres\n \n \n Apellidos\n \n \n Email\n \n \n Cedula\n \n \n Celular\n \n \n Dirección\n \n \n Ha tenido usted contacto con personas que hayan sido diagnosticadas o tengan sintomas de Covid-19 en los últimos 10 días?\nSiNo \n \n Ha sido usted diagnosticado con Covid-19 o ha presentado los sintomas de este en los últimos 10 días?\nSiNo \n \n[counter formid:340]
URL:https://nuevoamanecerpereira.com/eventos/servicio-miercoles-2022-07-20/
LOCATION:Auditorio Nuevo Amanecer\, Calle 41 Nº 11-26 Sector Maraya\, Pereira\, Risaralda\, 660001\, Colombia
END:VEVENT
BEGIN:VEVENT
DTSTART;TZID=America/Bogota:20220717T103000
DTEND;TZID=America/Bogota:20220717T120000
DTSTAMP:20260420T074529
CREATED:20211009T160749Z
LAST-MODIFIED:20211009T160749Z
UID:1170-1658053800-1658059200@nuevoamanecerpereira.com
SUMMARY:Servicio 10:30 a.m.
DESCRIPTION:Inscríbete a nuestro servicio dominical de las 10:30 a.m. llenando el siguiente formulario: \n\n\n  \n\n\n\n Nombres\n \n \n Apellidos\n \n \n Email\n \n \n Cedula\n \n \n Celular\n \n \n Dirección\n \n \n Ha tenido usted contacto con personas que hayan sido diagnosticadas o tengan sintomas de Covid-19 en los últimos 10 días?\nSiNo \n \n Ha sido usted diagnosticado con Covid-19 o ha presentado los sintomas de este en los últimos 10 días?\nSiNo \n \n[counter formid:861]
URL:https://nuevoamanecerpereira.com/eventos/servicio-1030-a-m-2022-07-17/
LOCATION:Auditorio Nuevo Amanecer\, Calle 41 Nº 11-26 Sector Maraya\, Pereira\, Risaralda\, 660001\, Colombia
END:VEVENT
BEGIN:VEVENT
DTSTART;TZID=America/Bogota:20220713T190000
DTEND;TZID=America/Bogota:20220713T203000
DTSTAMP:20260420T074529
CREATED:20211006T134223Z
LAST-MODIFIED:20211006T134223Z
UID:1169-1657738800-1657744200@nuevoamanecerpereira.com
SUMMARY:Servicio Miércoles
DESCRIPTION:Inscríbete a nuestro servicio del miércoles llenando el siguiente formulario: \n\n\n  \n\n\n\n Nombres\n \n \n Apellidos\n \n \n Email\n \n \n Cedula\n \n \n Celular\n \n \n Dirección\n \n \n Ha tenido usted contacto con personas que hayan sido diagnosticadas o tengan sintomas de Covid-19 en los últimos 10 días?\nSiNo \n \n Ha sido usted diagnosticado con Covid-19 o ha presentado los sintomas de este en los últimos 10 días?\nSiNo \n \n[counter formid:340]
URL:https://nuevoamanecerpereira.com/eventos/servicio-miercoles-2022-07-13/
LOCATION:Auditorio Nuevo Amanecer\, Calle 41 Nº 11-26 Sector Maraya\, Pereira\, Risaralda\, 660001\, Colombia
END:VEVENT
BEGIN:VEVENT
DTSTART;TZID=America/Bogota:20220710T103000
DTEND;TZID=America/Bogota:20220710T120000
DTSTAMP:20260420T074529
CREATED:20211009T160749Z
LAST-MODIFIED:20211009T160749Z
UID:1167-1657449000-1657454400@nuevoamanecerpereira.com
SUMMARY:Servicio 10:30 a.m.
DESCRIPTION:Inscríbete a nuestro servicio dominical de las 10:30 a.m. llenando el siguiente formulario: \n\n\n  \n\n\n\n Nombres\n \n \n Apellidos\n \n \n Email\n \n \n Cedula\n \n \n Celular\n \n \n Dirección\n \n \n Ha tenido usted contacto con personas que hayan sido diagnosticadas o tengan sintomas de Covid-19 en los últimos 10 días?\nSiNo \n \n Ha sido usted diagnosticado con Covid-19 o ha presentado los sintomas de este en los últimos 10 días?\nSiNo \n \n[counter formid:861]
URL:https://nuevoamanecerpereira.com/eventos/servicio-1030-a-m-2022-07-10/
LOCATION:Auditorio Nuevo Amanecer\, Calle 41 Nº 11-26 Sector Maraya\, Pereira\, Risaralda\, 660001\, Colombia
END:VEVENT
BEGIN:VEVENT
DTSTART;TZID=America/Bogota:20220706T190000
DTEND;TZID=America/Bogota:20220706T203000
DTSTAMP:20260420T074529
CREATED:20211006T134223Z
LAST-MODIFIED:20211006T134223Z
UID:1166-1657134000-1657139400@nuevoamanecerpereira.com
SUMMARY:Servicio Miércoles
DESCRIPTION:Inscríbete a nuestro servicio del miércoles llenando el siguiente formulario: \n\n\n  \n\n\n\n Nombres\n \n \n Apellidos\n \n \n Email\n \n \n Cedula\n \n \n Celular\n \n \n Dirección\n \n \n Ha tenido usted contacto con personas que hayan sido diagnosticadas o tengan sintomas de Covid-19 en los últimos 10 días?\nSiNo \n \n Ha sido usted diagnosticado con Covid-19 o ha presentado los sintomas de este en los últimos 10 días?\nSiNo \n \n[counter formid:340]
URL:https://nuevoamanecerpereira.com/eventos/servicio-miercoles-2022-07-06/
LOCATION:Auditorio Nuevo Amanecer\, Calle 41 Nº 11-26 Sector Maraya\, Pereira\, Risaralda\, 660001\, Colombia
END:VEVENT
BEGIN:VEVENT
DTSTART;TZID=America/Bogota:20220703T103000
DTEND;TZID=America/Bogota:20220703T120000
DTSTAMP:20260420T074529
CREATED:20211009T160749Z
LAST-MODIFIED:20211009T160749Z
UID:1165-1656844200-1656849600@nuevoamanecerpereira.com
SUMMARY:Servicio 10:30 a.m.
DESCRIPTION:Inscríbete a nuestro servicio dominical de las 10:30 a.m. llenando el siguiente formulario: \n\n\n  \n\n\n\n Nombres\n \n \n Apellidos\n \n \n Email\n \n \n Cedula\n \n \n Celular\n \n \n Dirección\n \n \n Ha tenido usted contacto con personas que hayan sido diagnosticadas o tengan sintomas de Covid-19 en los últimos 10 días?\nSiNo \n \n Ha sido usted diagnosticado con Covid-19 o ha presentado los sintomas de este en los últimos 10 días?\nSiNo \n \n[counter formid:861]
URL:https://nuevoamanecerpereira.com/eventos/servicio-1030-a-m-2022-07-03/
LOCATION:Auditorio Nuevo Amanecer\, Calle 41 Nº 11-26 Sector Maraya\, Pereira\, Risaralda\, 660001\, Colombia
END:VEVENT
BEGIN:VEVENT
DTSTART;TZID=America/Bogota:20220629T190000
DTEND;TZID=America/Bogota:20220629T203000
DTSTAMP:20260420T074529
CREATED:20211006T134223Z
LAST-MODIFIED:20211006T134223Z
UID:1163-1656529200-1656534600@nuevoamanecerpereira.com
SUMMARY:Servicio Miércoles
DESCRIPTION:Inscríbete a nuestro servicio del miércoles llenando el siguiente formulario: \n\n\n  \n\n\n\n Nombres\n \n \n Apellidos\n \n \n Email\n \n \n Cedula\n \n \n Celular\n \n \n Dirección\n \n \n Ha tenido usted contacto con personas que hayan sido diagnosticadas o tengan sintomas de Covid-19 en los últimos 10 días?\nSiNo \n \n Ha sido usted diagnosticado con Covid-19 o ha presentado los sintomas de este en los últimos 10 días?\nSiNo \n \n[counter formid:340]
URL:https://nuevoamanecerpereira.com/eventos/servicio-miercoles-2022-06-29/
LOCATION:Auditorio Nuevo Amanecer\, Calle 41 Nº 11-26 Sector Maraya\, Pereira\, Risaralda\, 660001\, Colombia
END:VEVENT
BEGIN:VEVENT
DTSTART;TZID=America/Bogota:20220626T103000
DTEND;TZID=America/Bogota:20220626T120000
DTSTAMP:20260420T074529
CREATED:20211009T160749Z
LAST-MODIFIED:20211009T160749Z
UID:1162-1656239400-1656244800@nuevoamanecerpereira.com
SUMMARY:Servicio 10:30 a.m.
DESCRIPTION:Inscríbete a nuestro servicio dominical de las 10:30 a.m. llenando el siguiente formulario: \n\n\n  \n\n\n\n Nombres\n \n \n Apellidos\n \n \n Email\n \n \n Cedula\n \n \n Celular\n \n \n Dirección\n \n \n Ha tenido usted contacto con personas que hayan sido diagnosticadas o tengan sintomas de Covid-19 en los últimos 10 días?\nSiNo \n \n Ha sido usted diagnosticado con Covid-19 o ha presentado los sintomas de este en los últimos 10 días?\nSiNo \n \n[counter formid:861]
URL:https://nuevoamanecerpereira.com/eventos/servicio-1030-a-m-2022-06-26/
LOCATION:Auditorio Nuevo Amanecer\, Calle 41 Nº 11-26 Sector Maraya\, Pereira\, Risaralda\, 660001\, Colombia
END:VEVENT
BEGIN:VEVENT
DTSTART;TZID=America/Bogota:20220622T190000
DTEND;TZID=America/Bogota:20220622T203000
DTSTAMP:20260420T074529
CREATED:20211006T134223Z
LAST-MODIFIED:20211006T134223Z
UID:1159-1655924400-1655929800@nuevoamanecerpereira.com
SUMMARY:Servicio Miércoles
DESCRIPTION:Inscríbete a nuestro servicio del miércoles llenando el siguiente formulario: \n\n\n  \n\n\n\n Nombres\n \n \n Apellidos\n \n \n Email\n \n \n Cedula\n \n \n Celular\n \n \n Dirección\n \n \n Ha tenido usted contacto con personas que hayan sido diagnosticadas o tengan sintomas de Covid-19 en los últimos 10 días?\nSiNo \n \n Ha sido usted diagnosticado con Covid-19 o ha presentado los sintomas de este en los últimos 10 días?\nSiNo \n \n[counter formid:340]
URL:https://nuevoamanecerpereira.com/eventos/servicio-miercoles-2022-06-22/
LOCATION:Auditorio Nuevo Amanecer\, Calle 41 Nº 11-26 Sector Maraya\, Pereira\, Risaralda\, 660001\, Colombia
END:VEVENT
BEGIN:VEVENT
DTSTART;TZID=America/Bogota:20220619T103000
DTEND;TZID=America/Bogota:20220619T120000
DTSTAMP:20260420T074529
CREATED:20211009T160749Z
LAST-MODIFIED:20211009T160749Z
UID:1153-1655634600-1655640000@nuevoamanecerpereira.com
SUMMARY:Servicio 10:30 a.m.
DESCRIPTION:Inscríbete a nuestro servicio dominical de las 10:30 a.m. llenando el siguiente formulario: \n\n\n  \n\n\n\n Nombres\n \n \n Apellidos\n \n \n Email\n \n \n Cedula\n \n \n Celular\n \n \n Dirección\n \n \n Ha tenido usted contacto con personas que hayan sido diagnosticadas o tengan sintomas de Covid-19 en los últimos 10 días?\nSiNo \n \n Ha sido usted diagnosticado con Covid-19 o ha presentado los sintomas de este en los últimos 10 días?\nSiNo \n \n[counter formid:861]
URL:https://nuevoamanecerpereira.com/eventos/servicio-1030-a-m-2022-06-19/
LOCATION:Auditorio Nuevo Amanecer\, Calle 41 Nº 11-26 Sector Maraya\, Pereira\, Risaralda\, 660001\, Colombia
END:VEVENT
BEGIN:VEVENT
DTSTART;TZID=America/Bogota:20220615T190000
DTEND;TZID=America/Bogota:20220615T203000
DTSTAMP:20260420T074529
CREATED:20211006T134223Z
LAST-MODIFIED:20211006T134223Z
UID:1152-1655319600-1655325000@nuevoamanecerpereira.com
SUMMARY:Servicio Miércoles
DESCRIPTION:Inscríbete a nuestro servicio del miércoles llenando el siguiente formulario: \n\n\n  \n\n\n\n Nombres\n \n \n Apellidos\n \n \n Email\n \n \n Cedula\n \n \n Celular\n \n \n Dirección\n \n \n Ha tenido usted contacto con personas que hayan sido diagnosticadas o tengan sintomas de Covid-19 en los últimos 10 días?\nSiNo \n \n Ha sido usted diagnosticado con Covid-19 o ha presentado los sintomas de este en los últimos 10 días?\nSiNo \n \n[counter formid:340]
URL:https://nuevoamanecerpereira.com/eventos/servicio-miercoles-2022-06-15/
LOCATION:Auditorio Nuevo Amanecer\, Calle 41 Nº 11-26 Sector Maraya\, Pereira\, Risaralda\, 660001\, Colombia
END:VEVENT
BEGIN:VEVENT
DTSTART;TZID=America/Bogota:20220612T103000
DTEND;TZID=America/Bogota:20220612T120000
DTSTAMP:20260420T074529
CREATED:20211009T160749Z
LAST-MODIFIED:20211009T160749Z
UID:1151-1655029800-1655035200@nuevoamanecerpereira.com
SUMMARY:Servicio 10:30 a.m.
DESCRIPTION:Inscríbete a nuestro servicio dominical de las 10:30 a.m. llenando el siguiente formulario: \n\n\n  \n\n\n\n Nombres\n \n \n Apellidos\n \n \n Email\n \n \n Cedula\n \n \n Celular\n \n \n Dirección\n \n \n Ha tenido usted contacto con personas que hayan sido diagnosticadas o tengan sintomas de Covid-19 en los últimos 10 días?\nSiNo \n \n Ha sido usted diagnosticado con Covid-19 o ha presentado los sintomas de este en los últimos 10 días?\nSiNo \n \n[counter formid:861]
URL:https://nuevoamanecerpereira.com/eventos/servicio-1030-a-m-2022-06-12/
LOCATION:Auditorio Nuevo Amanecer\, Calle 41 Nº 11-26 Sector Maraya\, Pereira\, Risaralda\, 660001\, Colombia
END:VEVENT
BEGIN:VEVENT
DTSTART;TZID=America/Bogota:20220608T190000
DTEND;TZID=America/Bogota:20220608T203000
DTSTAMP:20260420T074529
CREATED:20211006T134223Z
LAST-MODIFIED:20211006T134223Z
UID:1150-1654714800-1654720200@nuevoamanecerpereira.com
SUMMARY:Servicio Miércoles
DESCRIPTION:Inscríbete a nuestro servicio del miércoles llenando el siguiente formulario: \n\n\n  \n\n\n\n Nombres\n \n \n Apellidos\n \n \n Email\n \n \n Cedula\n \n \n Celular\n \n \n Dirección\n \n \n Ha tenido usted contacto con personas que hayan sido diagnosticadas o tengan sintomas de Covid-19 en los últimos 10 días?\nSiNo \n \n Ha sido usted diagnosticado con Covid-19 o ha presentado los sintomas de este en los últimos 10 días?\nSiNo \n \n[counter formid:340]
URL:https://nuevoamanecerpereira.com/eventos/servicio-miercoles-2022-06-08/
LOCATION:Auditorio Nuevo Amanecer\, Calle 41 Nº 11-26 Sector Maraya\, Pereira\, Risaralda\, 660001\, Colombia
END:VEVENT
BEGIN:VEVENT
DTSTART;TZID=America/Bogota:20220605T103000
DTEND;TZID=America/Bogota:20220605T120000
DTSTAMP:20260420T074529
CREATED:20211009T160749Z
LAST-MODIFIED:20211009T160749Z
UID:1149-1654425000-1654430400@nuevoamanecerpereira.com
SUMMARY:Servicio 10:30 a.m.
DESCRIPTION:Inscríbete a nuestro servicio dominical de las 10:30 a.m. llenando el siguiente formulario: \n\n\n  \n\n\n\n Nombres\n \n \n Apellidos\n \n \n Email\n \n \n Cedula\n \n \n Celular\n \n \n Dirección\n \n \n Ha tenido usted contacto con personas que hayan sido diagnosticadas o tengan sintomas de Covid-19 en los últimos 10 días?\nSiNo \n \n Ha sido usted diagnosticado con Covid-19 o ha presentado los sintomas de este en los últimos 10 días?\nSiNo \n \n[counter formid:861]
URL:https://nuevoamanecerpereira.com/eventos/servicio-1030-a-m-2022-06-05/
LOCATION:Auditorio Nuevo Amanecer\, Calle 41 Nº 11-26 Sector Maraya\, Pereira\, Risaralda\, 660001\, Colombia
END:VEVENT
BEGIN:VEVENT
DTSTART;TZID=America/Bogota:20220601T190000
DTEND;TZID=America/Bogota:20220601T203000
DTSTAMP:20260420T074529
CREATED:20211006T134223Z
LAST-MODIFIED:20211006T134223Z
UID:1148-1654110000-1654115400@nuevoamanecerpereira.com
SUMMARY:Servicio Miércoles
DESCRIPTION:Inscríbete a nuestro servicio del miércoles llenando el siguiente formulario: \n\n\n  \n\n\n\n Nombres\n \n \n Apellidos\n \n \n Email\n \n \n Cedula\n \n \n Celular\n \n \n Dirección\n \n \n Ha tenido usted contacto con personas que hayan sido diagnosticadas o tengan sintomas de Covid-19 en los últimos 10 días?\nSiNo \n \n Ha sido usted diagnosticado con Covid-19 o ha presentado los sintomas de este en los últimos 10 días?\nSiNo \n \n[counter formid:340]
URL:https://nuevoamanecerpereira.com/eventos/servicio-miercoles-2022-06-01/
LOCATION:Auditorio Nuevo Amanecer\, Calle 41 Nº 11-26 Sector Maraya\, Pereira\, Risaralda\, 660001\, Colombia
END:VEVENT
BEGIN:VEVENT
DTSTART;TZID=America/Bogota:20220530T073000
DTEND;TZID=America/Bogota:20220530T210000
DTSTAMP:20260420T074529
CREATED:20220323T205238Z
LAST-MODIFIED:20220325T155325Z
UID:1156-1653895800-1653944400@nuevoamanecerpereira.com
SUMMARY:Retiro para Mujeres
DESCRIPTION:Disfrutemos juntas este próximo 30 de mayo\, lunes festivo. \n1- “Porque tú te lo mereces” \nVenir con tiempo disponible para que papá Dios te consienta\, desde las 7:30 a.m es el ingreso\, hasta la cena con una sorpresa para ti 💕 \n2- Los cupos son limitados\, por esta razón recomendamos separar tu cupo inscribiéndote en el formulario que está más abajo y dando un abono de $20.000\, y que puedas seguir abonando hasta 15 días antes del evento. \nMuchas gracias por ayudarnos a celebrar con una buena logística \n\n\n  \n\n\n\n Nombres\n \n \n Apellidos\n \n \n Email\n \n \n Cedula\n \n \n Celular\n \n \n Ha tenido usted contacto con personas que hayan sido diagnosticadas o tengan sintomas de Covid-19 en los últimos 10 días?\nSiNo \n \n Ha sido usted diagnosticado con Covid-19 o ha presentado los sintomas de este en los últimos 10 días?\nSiNo \n \n[counter formid:1155]
URL:https://nuevoamanecerpereira.com/eventos/retiro-de-mujeres/
LOCATION:Auditorio Nuevo Amanecer\, Calle 41 Nº 11-26 Sector Maraya\, Pereira\, Risaralda\, 660001\, Colombia
CATEGORIES:Mujeres
ATTACH;FMTTYPE=image/jpeg:https://nuevoamanecerpereira.com/wp-content/uploads/2022/03/WhatsApp-Image-2022-03-18-at-12.14.11.jpeg
END:VEVENT
BEGIN:VEVENT
DTSTART;TZID=America/Bogota:20220529T103000
DTEND;TZID=America/Bogota:20220529T120000
DTSTAMP:20260420T074529
CREATED:20211009T160749Z
LAST-MODIFIED:20211009T160749Z
UID:1147-1653820200-1653825600@nuevoamanecerpereira.com
SUMMARY:Servicio 10:30 a.m.
DESCRIPTION:Inscríbete a nuestro servicio dominical de las 10:30 a.m. llenando el siguiente formulario: \n\n\n  \n\n\n\n Nombres\n \n \n Apellidos\n \n \n Email\n \n \n Cedula\n \n \n Celular\n \n \n Dirección\n \n \n Ha tenido usted contacto con personas que hayan sido diagnosticadas o tengan sintomas de Covid-19 en los últimos 10 días?\nSiNo \n \n Ha sido usted diagnosticado con Covid-19 o ha presentado los sintomas de este en los últimos 10 días?\nSiNo \n \n[counter formid:861]
URL:https://nuevoamanecerpereira.com/eventos/servicio-1030-a-m-2022-05-29/
LOCATION:Auditorio Nuevo Amanecer\, Calle 41 Nº 11-26 Sector Maraya\, Pereira\, Risaralda\, 660001\, Colombia
END:VEVENT
BEGIN:VEVENT
DTSTART;TZID=America/Bogota:20220525T190000
DTEND;TZID=America/Bogota:20220525T203000
DTSTAMP:20260420T074529
CREATED:20211006T134223Z
LAST-MODIFIED:20211006T134223Z
UID:1146-1653505200-1653510600@nuevoamanecerpereira.com
SUMMARY:Servicio Miércoles
DESCRIPTION:Inscríbete a nuestro servicio del miércoles llenando el siguiente formulario: \n\n\n  \n\n\n\n Nombres\n \n \n Apellidos\n \n \n Email\n \n \n Cedula\n \n \n Celular\n \n \n Dirección\n \n \n Ha tenido usted contacto con personas que hayan sido diagnosticadas o tengan sintomas de Covid-19 en los últimos 10 días?\nSiNo \n \n Ha sido usted diagnosticado con Covid-19 o ha presentado los sintomas de este en los últimos 10 días?\nSiNo \n \n[counter formid:340]
URL:https://nuevoamanecerpereira.com/eventos/servicio-miercoles-2022-05-25/
LOCATION:Auditorio Nuevo Amanecer\, Calle 41 Nº 11-26 Sector Maraya\, Pereira\, Risaralda\, 660001\, Colombia
END:VEVENT
BEGIN:VEVENT
DTSTART;TZID=America/Bogota:20220522T103000
DTEND;TZID=America/Bogota:20220522T120000
DTSTAMP:20260420T074529
CREATED:20211009T160749Z
LAST-MODIFIED:20211009T160749Z
UID:1145-1653215400-1653220800@nuevoamanecerpereira.com
SUMMARY:Servicio 10:30 a.m.
DESCRIPTION:Inscríbete a nuestro servicio dominical de las 10:30 a.m. llenando el siguiente formulario: \n\n\n  \n\n\n\n Nombres\n \n \n Apellidos\n \n \n Email\n \n \n Cedula\n \n \n Celular\n \n \n Dirección\n \n \n Ha tenido usted contacto con personas que hayan sido diagnosticadas o tengan sintomas de Covid-19 en los últimos 10 días?\nSiNo \n \n Ha sido usted diagnosticado con Covid-19 o ha presentado los sintomas de este en los últimos 10 días?\nSiNo \n \n[counter formid:861]
URL:https://nuevoamanecerpereira.com/eventos/servicio-1030-a-m-2022-05-22/
LOCATION:Auditorio Nuevo Amanecer\, Calle 41 Nº 11-26 Sector Maraya\, Pereira\, Risaralda\, 660001\, Colombia
END:VEVENT
BEGIN:VEVENT
DTSTART;TZID=America/Bogota:20220518T190000
DTEND;TZID=America/Bogota:20220518T203000
DTSTAMP:20260420T074529
CREATED:20211006T134223Z
LAST-MODIFIED:20211006T134223Z
UID:1144-1652900400-1652905800@nuevoamanecerpereira.com
SUMMARY:Servicio Miércoles
DESCRIPTION:Inscríbete a nuestro servicio del miércoles llenando el siguiente formulario: \n\n\n  \n\n\n\n Nombres\n \n \n Apellidos\n \n \n Email\n \n \n Cedula\n \n \n Celular\n \n \n Dirección\n \n \n Ha tenido usted contacto con personas que hayan sido diagnosticadas o tengan sintomas de Covid-19 en los últimos 10 días?\nSiNo \n \n Ha sido usted diagnosticado con Covid-19 o ha presentado los sintomas de este en los últimos 10 días?\nSiNo \n \n[counter formid:340]
URL:https://nuevoamanecerpereira.com/eventos/servicio-miercoles-2022-05-18/
LOCATION:Auditorio Nuevo Amanecer\, Calle 41 Nº 11-26 Sector Maraya\, Pereira\, Risaralda\, 660001\, Colombia
END:VEVENT
BEGIN:VEVENT
DTSTART;TZID=America/Bogota:20220515T103000
DTEND;TZID=America/Bogota:20220515T120000
DTSTAMP:20260420T074529
CREATED:20211009T160749Z
LAST-MODIFIED:20211009T160749Z
UID:1142-1652610600-1652616000@nuevoamanecerpereira.com
SUMMARY:Servicio 10:30 a.m.
DESCRIPTION:Inscríbete a nuestro servicio dominical de las 10:30 a.m. llenando el siguiente formulario: \n\n\n  \n\n\n\n Nombres\n \n \n Apellidos\n \n \n Email\n \n \n Cedula\n \n \n Celular\n \n \n Dirección\n \n \n Ha tenido usted contacto con personas que hayan sido diagnosticadas o tengan sintomas de Covid-19 en los últimos 10 días?\nSiNo \n \n Ha sido usted diagnosticado con Covid-19 o ha presentado los sintomas de este en los últimos 10 días?\nSiNo \n \n[counter formid:861]
URL:https://nuevoamanecerpereira.com/eventos/servicio-1030-a-m-2022-05-15/
LOCATION:Auditorio Nuevo Amanecer\, Calle 41 Nº 11-26 Sector Maraya\, Pereira\, Risaralda\, 660001\, Colombia
END:VEVENT
BEGIN:VEVENT
DTSTART;TZID=America/Bogota:20220511T190000
DTEND;TZID=America/Bogota:20220511T203000
DTSTAMP:20260420T074529
CREATED:20211006T134223Z
LAST-MODIFIED:20211006T134223Z
UID:1140-1652295600-1652301000@nuevoamanecerpereira.com
SUMMARY:Servicio Miércoles
DESCRIPTION:Inscríbete a nuestro servicio del miércoles llenando el siguiente formulario: \n\n\n  \n\n\n\n Nombres\n \n \n Apellidos\n \n \n Email\n \n \n Cedula\n \n \n Celular\n \n \n Dirección\n \n \n Ha tenido usted contacto con personas que hayan sido diagnosticadas o tengan sintomas de Covid-19 en los últimos 10 días?\nSiNo \n \n Ha sido usted diagnosticado con Covid-19 o ha presentado los sintomas de este en los últimos 10 días?\nSiNo \n \n[counter formid:340]
URL:https://nuevoamanecerpereira.com/eventos/servicio-miercoles-2022-05-11/
LOCATION:Auditorio Nuevo Amanecer\, Calle 41 Nº 11-26 Sector Maraya\, Pereira\, Risaralda\, 660001\, Colombia
END:VEVENT
END:VCALENDAR