BEGIN:VCALENDAR
VERSION:2.0
PRODID:-//Nuevo Amanecer Pereira - ECPv6.15.13//NONSGML v1.0//EN
CALSCALE:GREGORIAN
METHOD:PUBLISH
X-WR-CALNAME:Nuevo Amanecer Pereira
X-ORIGINAL-URL:https://nuevoamanecerpereira.com
X-WR-CALDESC:Eventos para Nuevo Amanecer Pereira
REFRESH-INTERVAL;VALUE=DURATION:PT1H
X-Robots-Tag:noindex
X-PUBLISHED-TTL:PT1H
BEGIN:VTIMEZONE
TZID:America/Bogota
BEGIN:STANDARD
TZOFFSETFROM:-0500
TZOFFSETTO:-0500
TZNAME:-05
DTSTART:20200101T000000
END:STANDARD
END:VTIMEZONE
BEGIN:VEVENT
DTSTART;TZID=America/Bogota:20220417T103000
DTEND;TZID=America/Bogota:20220417T120000
DTSTAMP:20260420T113941
CREATED:20211009T160749Z
LAST-MODIFIED:20211009T160749Z
UID:1119-1650191400-1650196800@nuevoamanecerpereira.com
SUMMARY:Servicio 10:30 a.m.
DESCRIPTION:Inscríbete a nuestro servicio dominical de las 10:30 a.m. llenando el siguiente formulario: \n\n\n  \n\n\n\n Nombres\n \n \n Apellidos\n \n \n Email\n \n \n Cedula\n \n \n Celular\n \n \n Dirección\n \n \n Ha tenido usted contacto con personas que hayan sido diagnosticadas o tengan sintomas de Covid-19 en los últimos 10 días?\nSiNo \n \n Ha sido usted diagnosticado con Covid-19 o ha presentado los sintomas de este en los últimos 10 días?\nSiNo \n \n[counter formid:861]
URL:https://nuevoamanecerpereira.com/eventos/servicio-1030-a-m-2022-04-17/
LOCATION:Auditorio Nuevo Amanecer\, Calle 41 Nº 11-26 Sector Maraya\, Pereira\, Risaralda\, 660001\, Colombia
END:VEVENT
BEGIN:VEVENT
DTSTART;TZID=America/Bogota:20220413T190000
DTEND;TZID=America/Bogota:20220413T203000
DTSTAMP:20260420T113941
CREATED:20211006T134223Z
LAST-MODIFIED:20211006T134223Z
UID:1065-1649876400-1649881800@nuevoamanecerpereira.com
SUMMARY:Servicio Miércoles
DESCRIPTION:Inscríbete a nuestro servicio del miércoles llenando el siguiente formulario: \n\n\n  \n\n\n\n Nombres\n \n \n Apellidos\n \n \n Email\n \n \n Cedula\n \n \n Celular\n \n \n Dirección\n \n \n Ha tenido usted contacto con personas que hayan sido diagnosticadas o tengan sintomas de Covid-19 en los últimos 10 días?\nSiNo \n \n Ha sido usted diagnosticado con Covid-19 o ha presentado los sintomas de este en los últimos 10 días?\nSiNo \n \n[counter formid:340]
URL:https://nuevoamanecerpereira.com/eventos/servicio-miercoles-2022-04-13/
LOCATION:Auditorio Nuevo Amanecer\, Calle 41 Nº 11-26 Sector Maraya\, Pereira\, Risaralda\, 660001\, Colombia
END:VEVENT
BEGIN:VEVENT
DTSTART;TZID=America/Bogota:20220410T103000
DTEND;TZID=America/Bogota:20220410T120000
DTSTAMP:20260420T113941
CREATED:20211009T160749Z
LAST-MODIFIED:20211009T160749Z
UID:1107-1649586600-1649592000@nuevoamanecerpereira.com
SUMMARY:Servicio 10:30 a.m.
DESCRIPTION:Inscríbete a nuestro servicio dominical de las 10:30 a.m. llenando el siguiente formulario: \n\n\n  \n\n\n\n Nombres\n \n \n Apellidos\n \n \n Email\n \n \n Cedula\n \n \n Celular\n \n \n Dirección\n \n \n Ha tenido usted contacto con personas que hayan sido diagnosticadas o tengan sintomas de Covid-19 en los últimos 10 días?\nSiNo \n \n Ha sido usted diagnosticado con Covid-19 o ha presentado los sintomas de este en los últimos 10 días?\nSiNo \n \n[counter formid:861]
URL:https://nuevoamanecerpereira.com/eventos/servicio-1030-a-m-2022-04-10/
LOCATION:Auditorio Nuevo Amanecer\, Calle 41 Nº 11-26 Sector Maraya\, Pereira\, Risaralda\, 660001\, Colombia
END:VEVENT
BEGIN:VEVENT
DTSTART;TZID=America/Bogota:20220406T190000
DTEND;TZID=America/Bogota:20220406T203000
DTSTAMP:20260420T113941
CREATED:20211006T134223Z
LAST-MODIFIED:20211006T134223Z
UID:1064-1649271600-1649277000@nuevoamanecerpereira.com
SUMMARY:Servicio Miércoles
DESCRIPTION:Inscríbete a nuestro servicio del miércoles llenando el siguiente formulario: \n\n\n  \n\n\n\n Nombres\n \n \n Apellidos\n \n \n Email\n \n \n Cedula\n \n \n Celular\n \n \n Dirección\n \n \n Ha tenido usted contacto con personas que hayan sido diagnosticadas o tengan sintomas de Covid-19 en los últimos 10 días?\nSiNo \n \n Ha sido usted diagnosticado con Covid-19 o ha presentado los sintomas de este en los últimos 10 días?\nSiNo \n \n[counter formid:340]
URL:https://nuevoamanecerpereira.com/eventos/servicio-miercoles-2022-04-06/
LOCATION:Auditorio Nuevo Amanecer\, Calle 41 Nº 11-26 Sector Maraya\, Pereira\, Risaralda\, 660001\, Colombia
END:VEVENT
BEGIN:VEVENT
DTSTART;TZID=America/Bogota:20220403T103000
DTEND;TZID=America/Bogota:20220403T120000
DTSTAMP:20260420T113941
CREATED:20211009T160749Z
LAST-MODIFIED:20211009T160749Z
UID:1106-1648981800-1648987200@nuevoamanecerpereira.com
SUMMARY:Servicio 10:30 a.m.
DESCRIPTION:Inscríbete a nuestro servicio dominical de las 10:30 a.m. llenando el siguiente formulario: \n\n\n  \n\n\n\n Nombres\n \n \n Apellidos\n \n \n Email\n \n \n Cedula\n \n \n Celular\n \n \n Dirección\n \n \n Ha tenido usted contacto con personas que hayan sido diagnosticadas o tengan sintomas de Covid-19 en los últimos 10 días?\nSiNo \n \n Ha sido usted diagnosticado con Covid-19 o ha presentado los sintomas de este en los últimos 10 días?\nSiNo \n \n[counter formid:861]
URL:https://nuevoamanecerpereira.com/eventos/servicio-1030-a-m-2022-04-03/
LOCATION:Auditorio Nuevo Amanecer\, Calle 41 Nº 11-26 Sector Maraya\, Pereira\, Risaralda\, 660001\, Colombia
END:VEVENT
BEGIN:VEVENT
DTSTART;TZID=America/Bogota:20220330T190000
DTEND;TZID=America/Bogota:20220330T203000
DTSTAMP:20260420T113941
CREATED:20211006T134223Z
LAST-MODIFIED:20211006T134223Z
UID:1063-1648666800-1648672200@nuevoamanecerpereira.com
SUMMARY:Servicio Miércoles
DESCRIPTION:Inscríbete a nuestro servicio del miércoles llenando el siguiente formulario: \n\n\n  \n\n\n\n Nombres\n \n \n Apellidos\n \n \n Email\n \n \n Cedula\n \n \n Celular\n \n \n Dirección\n \n \n Ha tenido usted contacto con personas que hayan sido diagnosticadas o tengan sintomas de Covid-19 en los últimos 10 días?\nSiNo \n \n Ha sido usted diagnosticado con Covid-19 o ha presentado los sintomas de este en los últimos 10 días?\nSiNo \n \n[counter formid:340]
URL:https://nuevoamanecerpereira.com/eventos/servicio-miercoles-2022-03-30/
LOCATION:Auditorio Nuevo Amanecer\, Calle 41 Nº 11-26 Sector Maraya\, Pereira\, Risaralda\, 660001\, Colombia
END:VEVENT
BEGIN:VEVENT
DTSTART;TZID=America/Bogota:20220327T103000
DTEND;TZID=America/Bogota:20220327T120000
DTSTAMP:20260420T113941
CREATED:20211009T160749Z
LAST-MODIFIED:20211009T160749Z
UID:1105-1648377000-1648382400@nuevoamanecerpereira.com
SUMMARY:Servicio 10:30 a.m.
DESCRIPTION:Inscríbete a nuestro servicio dominical de las 10:30 a.m. llenando el siguiente formulario: \n\n\n  \n\n\n\n Nombres\n \n \n Apellidos\n \n \n Email\n \n \n Cedula\n \n \n Celular\n \n \n Dirección\n \n \n Ha tenido usted contacto con personas que hayan sido diagnosticadas o tengan sintomas de Covid-19 en los últimos 10 días?\nSiNo \n \n Ha sido usted diagnosticado con Covid-19 o ha presentado los sintomas de este en los últimos 10 días?\nSiNo \n \n[counter formid:861]
URL:https://nuevoamanecerpereira.com/eventos/servicio-1030-a-m-2022-03-27/
LOCATION:Auditorio Nuevo Amanecer\, Calle 41 Nº 11-26 Sector Maraya\, Pereira\, Risaralda\, 660001\, Colombia
END:VEVENT
BEGIN:VEVENT
DTSTART;TZID=America/Bogota:20220323T190000
DTEND;TZID=America/Bogota:20220323T203000
DTSTAMP:20260420T113941
CREATED:20211006T134223Z
LAST-MODIFIED:20211006T134223Z
UID:1062-1648062000-1648067400@nuevoamanecerpereira.com
SUMMARY:Servicio Miércoles
DESCRIPTION:Inscríbete a nuestro servicio del miércoles llenando el siguiente formulario: \n\n\n  \n\n\n\n Nombres\n \n \n Apellidos\n \n \n Email\n \n \n Cedula\n \n \n Celular\n \n \n Dirección\n \n \n Ha tenido usted contacto con personas que hayan sido diagnosticadas o tengan sintomas de Covid-19 en los últimos 10 días?\nSiNo \n \n Ha sido usted diagnosticado con Covid-19 o ha presentado los sintomas de este en los últimos 10 días?\nSiNo \n \n[counter formid:340]
URL:https://nuevoamanecerpereira.com/eventos/servicio-miercoles-2022-03-23/
LOCATION:Auditorio Nuevo Amanecer\, Calle 41 Nº 11-26 Sector Maraya\, Pereira\, Risaralda\, 660001\, Colombia
END:VEVENT
BEGIN:VEVENT
DTSTART;TZID=America/Bogota:20220320T103000
DTEND;TZID=America/Bogota:20220320T120000
DTSTAMP:20260420T113941
CREATED:20211009T160749Z
LAST-MODIFIED:20211009T160749Z
UID:1104-1647772200-1647777600@nuevoamanecerpereira.com
SUMMARY:Servicio 10:30 a.m.
DESCRIPTION:Inscríbete a nuestro servicio dominical de las 10:30 a.m. llenando el siguiente formulario: \n\n\n  \n\n\n\n Nombres\n \n \n Apellidos\n \n \n Email\n \n \n Cedula\n \n \n Celular\n \n \n Dirección\n \n \n Ha tenido usted contacto con personas que hayan sido diagnosticadas o tengan sintomas de Covid-19 en los últimos 10 días?\nSiNo \n \n Ha sido usted diagnosticado con Covid-19 o ha presentado los sintomas de este en los últimos 10 días?\nSiNo \n \n[counter formid:861]
URL:https://nuevoamanecerpereira.com/eventos/servicio-1030-a-m-2022-03-20/
LOCATION:Auditorio Nuevo Amanecer\, Calle 41 Nº 11-26 Sector Maraya\, Pereira\, Risaralda\, 660001\, Colombia
END:VEVENT
BEGIN:VEVENT
DTSTART;TZID=America/Bogota:20220316T190000
DTEND;TZID=America/Bogota:20220316T203000
DTSTAMP:20260420T113941
CREATED:20211006T134223Z
LAST-MODIFIED:20211006T134223Z
UID:1061-1647457200-1647462600@nuevoamanecerpereira.com
SUMMARY:Servicio Miércoles
DESCRIPTION:Inscríbete a nuestro servicio del miércoles llenando el siguiente formulario: \n\n\n  \n\n\n\n Nombres\n \n \n Apellidos\n \n \n Email\n \n \n Cedula\n \n \n Celular\n \n \n Dirección\n \n \n Ha tenido usted contacto con personas que hayan sido diagnosticadas o tengan sintomas de Covid-19 en los últimos 10 días?\nSiNo \n \n Ha sido usted diagnosticado con Covid-19 o ha presentado los sintomas de este en los últimos 10 días?\nSiNo \n \n[counter formid:340]
URL:https://nuevoamanecerpereira.com/eventos/servicio-miercoles-2022-03-16/
LOCATION:Auditorio Nuevo Amanecer\, Calle 41 Nº 11-26 Sector Maraya\, Pereira\, Risaralda\, 660001\, Colombia
END:VEVENT
BEGIN:VEVENT
DTSTART;TZID=America/Bogota:20220313T103000
DTEND;TZID=America/Bogota:20220313T120000
DTSTAMP:20260420T113941
CREATED:20211009T160749Z
LAST-MODIFIED:20211009T160749Z
UID:1103-1647167400-1647172800@nuevoamanecerpereira.com
SUMMARY:Servicio 10:30 a.m.
DESCRIPTION:Inscríbete a nuestro servicio dominical de las 10:30 a.m. llenando el siguiente formulario: \n\n\n  \n\n\n\n Nombres\n \n \n Apellidos\n \n \n Email\n \n \n Cedula\n \n \n Celular\n \n \n Dirección\n \n \n Ha tenido usted contacto con personas que hayan sido diagnosticadas o tengan sintomas de Covid-19 en los últimos 10 días?\nSiNo \n \n Ha sido usted diagnosticado con Covid-19 o ha presentado los sintomas de este en los últimos 10 días?\nSiNo \n \n[counter formid:861]
URL:https://nuevoamanecerpereira.com/eventos/servicio-1030-a-m-2022-03-13/
LOCATION:Auditorio Nuevo Amanecer\, Calle 41 Nº 11-26 Sector Maraya\, Pereira\, Risaralda\, 660001\, Colombia
END:VEVENT
BEGIN:VEVENT
DTSTART;TZID=America/Bogota:20220309T190000
DTEND;TZID=America/Bogota:20220309T203000
DTSTAMP:20260420T113941
CREATED:20211006T134223Z
LAST-MODIFIED:20211006T134223Z
UID:1060-1646852400-1646857800@nuevoamanecerpereira.com
SUMMARY:Servicio Miércoles
DESCRIPTION:Inscríbete a nuestro servicio del miércoles llenando el siguiente formulario: \n\n\n  \n\n\n\n Nombres\n \n \n Apellidos\n \n \n Email\n \n \n Cedula\n \n \n Celular\n \n \n Dirección\n \n \n Ha tenido usted contacto con personas que hayan sido diagnosticadas o tengan sintomas de Covid-19 en los últimos 10 días?\nSiNo \n \n Ha sido usted diagnosticado con Covid-19 o ha presentado los sintomas de este en los últimos 10 días?\nSiNo \n \n[counter formid:340]
URL:https://nuevoamanecerpereira.com/eventos/servicio-miercoles-2022-03-09/
LOCATION:Auditorio Nuevo Amanecer\, Calle 41 Nº 11-26 Sector Maraya\, Pereira\, Risaralda\, 660001\, Colombia
END:VEVENT
BEGIN:VEVENT
DTSTART;TZID=America/Bogota:20220306T103000
DTEND;TZID=America/Bogota:20220306T120000
DTSTAMP:20260420T113941
CREATED:20211009T160749Z
LAST-MODIFIED:20211009T160749Z
UID:1101-1646562600-1646568000@nuevoamanecerpereira.com
SUMMARY:Servicio 10:30 a.m.
DESCRIPTION:Inscríbete a nuestro servicio dominical de las 10:30 a.m. llenando el siguiente formulario: \n\n\n  \n\n\n\n Nombres\n \n \n Apellidos\n \n \n Email\n \n \n Cedula\n \n \n Celular\n \n \n Dirección\n \n \n Ha tenido usted contacto con personas que hayan sido diagnosticadas o tengan sintomas de Covid-19 en los últimos 10 días?\nSiNo \n \n Ha sido usted diagnosticado con Covid-19 o ha presentado los sintomas de este en los últimos 10 días?\nSiNo \n \n[counter formid:861]
URL:https://nuevoamanecerpereira.com/eventos/servicio-1030-a-m-2022-03-06/
LOCATION:Auditorio Nuevo Amanecer\, Calle 41 Nº 11-26 Sector Maraya\, Pereira\, Risaralda\, 660001\, Colombia
END:VEVENT
BEGIN:VEVENT
DTSTART;TZID=America/Bogota:20220302T190000
DTEND;TZID=America/Bogota:20220302T203000
DTSTAMP:20260420T113941
CREATED:20211006T134223Z
LAST-MODIFIED:20211006T134223Z
UID:1059-1646247600-1646253000@nuevoamanecerpereira.com
SUMMARY:Servicio Miércoles
DESCRIPTION:Inscríbete a nuestro servicio del miércoles llenando el siguiente formulario: \n\n\n  \n\n\n\n Nombres\n \n \n Apellidos\n \n \n Email\n \n \n Cedula\n \n \n Celular\n \n \n Dirección\n \n \n Ha tenido usted contacto con personas que hayan sido diagnosticadas o tengan sintomas de Covid-19 en los últimos 10 días?\nSiNo \n \n Ha sido usted diagnosticado con Covid-19 o ha presentado los sintomas de este en los últimos 10 días?\nSiNo \n \n[counter formid:340]
URL:https://nuevoamanecerpereira.com/eventos/servicio-miercoles-2022-03-02/
LOCATION:Auditorio Nuevo Amanecer\, Calle 41 Nº 11-26 Sector Maraya\, Pereira\, Risaralda\, 660001\, Colombia
END:VEVENT
BEGIN:VEVENT
DTSTART;TZID=America/Bogota:20220227T103000
DTEND;TZID=America/Bogota:20220227T120000
DTSTAMP:20260420T113941
CREATED:20211009T160749Z
LAST-MODIFIED:20211009T160749Z
UID:1100-1645957800-1645963200@nuevoamanecerpereira.com
SUMMARY:Servicio 10:30 a.m.
DESCRIPTION:Inscríbete a nuestro servicio dominical de las 10:30 a.m. llenando el siguiente formulario: \n\n\n  \n\n\n\n Nombres\n \n \n Apellidos\n \n \n Email\n \n \n Cedula\n \n \n Celular\n \n \n Dirección\n \n \n Ha tenido usted contacto con personas que hayan sido diagnosticadas o tengan sintomas de Covid-19 en los últimos 10 días?\nSiNo \n \n Ha sido usted diagnosticado con Covid-19 o ha presentado los sintomas de este en los últimos 10 días?\nSiNo \n \n[counter formid:861]
URL:https://nuevoamanecerpereira.com/eventos/servicio-1030-a-m-2022-02-27/
LOCATION:Auditorio Nuevo Amanecer\, Calle 41 Nº 11-26 Sector Maraya\, Pereira\, Risaralda\, 660001\, Colombia
END:VEVENT
BEGIN:VEVENT
DTSTART;TZID=America/Bogota:20220223T190000
DTEND;TZID=America/Bogota:20220223T203000
DTSTAMP:20260420T113941
CREATED:20211006T134223Z
LAST-MODIFIED:20211006T134223Z
UID:1058-1645642800-1645648200@nuevoamanecerpereira.com
SUMMARY:Servicio Miércoles
DESCRIPTION:Inscríbete a nuestro servicio del miércoles llenando el siguiente formulario: \n\n\n  \n\n\n\n Nombres\n \n \n Apellidos\n \n \n Email\n \n \n Cedula\n \n \n Celular\n \n \n Dirección\n \n \n Ha tenido usted contacto con personas que hayan sido diagnosticadas o tengan sintomas de Covid-19 en los últimos 10 días?\nSiNo \n \n Ha sido usted diagnosticado con Covid-19 o ha presentado los sintomas de este en los últimos 10 días?\nSiNo \n \n[counter formid:340]
URL:https://nuevoamanecerpereira.com/eventos/servicio-miercoles-2022-02-23/
LOCATION:Auditorio Nuevo Amanecer\, Calle 41 Nº 11-26 Sector Maraya\, Pereira\, Risaralda\, 660001\, Colombia
END:VEVENT
BEGIN:VEVENT
DTSTART;TZID=America/Bogota:20220220T103000
DTEND;TZID=America/Bogota:20220220T120000
DTSTAMP:20260420T113941
CREATED:20211009T160749Z
LAST-MODIFIED:20211009T160749Z
UID:1099-1645353000-1645358400@nuevoamanecerpereira.com
SUMMARY:Servicio 10:30 a.m.
DESCRIPTION:Inscríbete a nuestro servicio dominical de las 10:30 a.m. llenando el siguiente formulario: \n\n\n  \n\n\n\n Nombres\n \n \n Apellidos\n \n \n Email\n \n \n Cedula\n \n \n Celular\n \n \n Dirección\n \n \n Ha tenido usted contacto con personas que hayan sido diagnosticadas o tengan sintomas de Covid-19 en los últimos 10 días?\nSiNo \n \n Ha sido usted diagnosticado con Covid-19 o ha presentado los sintomas de este en los últimos 10 días?\nSiNo \n \n[counter formid:861]
URL:https://nuevoamanecerpereira.com/eventos/servicio-1030-a-m-2022-02-20/
LOCATION:Auditorio Nuevo Amanecer\, Calle 41 Nº 11-26 Sector Maraya\, Pereira\, Risaralda\, 660001\, Colombia
END:VEVENT
BEGIN:VEVENT
DTSTART;TZID=America/Bogota:20211218T190000
DTEND;TZID=America/Bogota:20211218T210000
DTSTAMP:20260420T113941
CREATED:20211003T053947Z
LAST-MODIFIED:20211003T171415Z
UID:295-1639854000-1639861200@nuevoamanecerpereira.com
SUMMARY:Celebración servidores
DESCRIPTION:
URL:https://nuevoamanecerpereira.com/eventos/celebracion-servidores/
LOCATION:Auditorio Nuevo Amanecer\, Calle 41 Nº 11-26 Sector Maraya\, Pereira\, Risaralda\, 660001\, Colombia
END:VEVENT
BEGIN:VEVENT
DTSTART;TZID=America/Bogota:20211210T190000
DTEND;TZID=America/Bogota:20211210T210000
DTSTAMP:20260420T113941
CREATED:20211203T031231Z
LAST-MODIFIED:20211203T031231Z
UID:1002-1639162800-1639170000@nuevoamanecerpereira.com
SUMMARY:Reunión de Mujeres
DESCRIPTION:Inscríbete a nuestra reunión de mujeres que tendrá lugar en nuestro auditorio llenando el siguiente formulario: \n\n\n  \n\n\n\n Nombres\n \n \n Apellidos\n \n \n Email\n \n \n Cedula\n \n \n Celular\n \n \n Dirección\n \n \n Ha tenido usted contacto con personas que hayan sido diagnosticadas o tengan sintomas de Covid-19 en los últimos 10 días?\nSiNo \n \n Ha sido usted diagnosticado con Covid-19 o ha presentado los sintomas de este en los últimos 10 días?\nSiNo \n \n[counter formid:1007]
URL:https://nuevoamanecerpereira.com/eventos/reunion-de-mujeres/
LOCATION:Auditorio Nuevo Amanecer\, Calle 41 Nº 11-26 Sector Maraya\, Pereira\, Risaralda\, 660001\, Colombia
CATEGORIES:Mujeres
ATTACH;FMTTYPE=image/jpeg:https://nuevoamanecerpereira.com/wp-content/uploads/2021/12/WhatsApp-Image-2021-11-28-at-08.37.02.jpeg
END:VEVENT
BEGIN:VEVENT
DTSTART;TZID=America/Bogota:20211204T190000
DTEND;TZID=America/Bogota:20211204T203000
DTSTAMP:20260420T113941
CREATED:20211203T032115Z
LAST-MODIFIED:20211203T033633Z
UID:1011-1638644400-1638649800@nuevoamanecerpereira.com
SUMMARY:Celebración de Ancianos
DESCRIPTION:Evento para miembros donde nuestros pastores harán sus compromisos públicos para la congregación y oraremos por ellos para que Dios les dé su gracia para cumplir su llamado honrosamente el próximo año. Además\, se presentarán a los diáconos de nuestra congregación. Inscríbete llenando el siguiente formulario: \n[swpm_protected custom_msg=”Este evento es exclusivo para miembros. Inicie sesión para inscribirse. Para mas informacion contactese con algun servidor.” format_protected_msg=”1″] \n\n\n  \n\n\n\n Nombres\n \n \n Apellidos\n \n \n Email\n \n \n Cedula\n \n \n Celular\n \n \n Dirección\n \n \n Ha tenido usted contacto con personas que hayan sido diagnosticadas o tengan sintomas de Covid-19 en los últimos 10 días?\nSiNo \n \n Ha sido usted diagnosticado con Covid-19 o ha presentado los sintomas de este en los últimos 10 días?\nSiNo \n \n[counter formid:1012]\n \n\n \n\n\n\n[/swpm_protected]
URL:https://nuevoamanecerpereira.com/eventos/celebracion-de-ancianos/
LOCATION:Auditorio Nuevo Amanecer\, Calle 41 Nº 11-26 Sector Maraya\, Pereira\, Risaralda\, 660001\, Colombia
CATEGORIES:Miembros
END:VEVENT
BEGIN:VEVENT
DTSTART;TZID=America/Bogota:20211120T183000
DTEND;TZID=America/Bogota:20211120T210000
DTSTAMP:20260420T113941
CREATED:20211003T052509Z
LAST-MODIFIED:20211116T045456Z
UID:283-1637433000-1637442000@nuevoamanecerpereira.com
SUMMARY:Celebración nuevos miembros
DESCRIPTION:Nuestra gran celebración y primera reunión de miembros de Nuevo Amanecer Pereira. Inscríbete llenando el siguiente formulario: \n[swpm_protected custom_msg="Este evento es exclusivo para miembros. Inicie sesión para inscribirse. Para mas informacion contactese con algun lider." format_protected_msg="1"]\n\n\n  \n\n\n\nMiembro: \n \n Ha tenido usted contacto con personas que hayan sido diagnosticadas o tengan sintomas de Covid-19 en los últimos 10 días?\nSiNo \n \n Ha sido usted diagnosticado con Covid-19 o ha presentado los sintomas de este en los últimos 10 días?\nSiNo \n \n[counter formid:938]\n \n\n \n\n\n\n[/swpm_protected]
URL:https://nuevoamanecerpereira.com/eventos/celebracion-nuevos-miembros/
LOCATION:Auditorio Nuevo Amanecer\, Calle 41 Nº 11-26 Sector Maraya\, Pereira\, Risaralda\, 660001\, Colombia
CATEGORIES:Miembros
END:VEVENT
BEGIN:VEVENT
DTSTART;VALUE=DATE:20211105
DTEND;VALUE=DATE:20211107
DTSTAMP:20260420T113941
CREATED:20211003T052632Z
LAST-MODIFIED:20211003T052632Z
UID:285-1636138800-1636225199@nuevoamanecerpereira.com
SUMMARY:Evaluación y presentación de ancianos
DESCRIPTION:
URL:https://nuevoamanecerpereira.com/eventos/evaluacion-y-presentacion-de-ancianos/
LOCATION:Risaralda
END:VEVENT
BEGIN:VEVENT
DTSTART;TZID=America/Bogota:20211022T190000
DTEND;TZID=America/Bogota:20211022T203000
DTSTAMP:20260420T113941
CREATED:20211022T013050Z
LAST-MODIFIED:20211022T013050Z
UID:909-1634929200-1634934600@nuevoamanecerpereira.com
SUMMARY:Taller de Parejas
DESCRIPTION:Inscríbete a nuestro taller de parejas: Conectando con mi pareja. Llenando el siguiente formulario\, recuerda que la inscripción es individual: \n\n\n  \n\n\n\n Nombres\n \n \n Apellidos\n \n \n Email\n \n \n Cedula\n \n \n Celular\n \n \n Dirección\n \n \n Ha tenido usted contacto con personas que hayan sido diagnosticadas o tengan sintomas de Covid-19 en los últimos 10 días?\nSiNo \n \n Ha sido usted diagnosticado con Covid-19 o ha presentado los sintomas de este en los últimos 10 días?\nSiNo \n \n[counter formid:908]
URL:https://nuevoamanecerpereira.com/eventos/taller-de-parejas/
LOCATION:Auditorio Nuevo Amanecer\, Calle 41 Nº 11-26 Sector Maraya\, Pereira\, Risaralda\, 660001\, Colombia
ATTACH;FMTTYPE=image/jpeg:https://nuevoamanecerpereira.com/wp-content/uploads/2021/10/WhatsApp-Image-2021-10-21-at-18.54.30.jpeg
END:VEVENT
BEGIN:VEVENT
DTSTART;TZID=America/Bogota:20211017T030000
DTEND;TZID=America/Bogota:20211031T120000
DTSTAMP:20260420T113941
CREATED:20211003T051953Z
LAST-MODIFIED:20211003T051953Z
UID:281-1634439600-1635681600@nuevoamanecerpereira.com
SUMMARY:Inicio de evaluación de membresía
DESCRIPTION:
URL:https://nuevoamanecerpereira.com/eventos/inicio-de-evaluacion-de-membresia/
LOCATION:Auditorio Nuevo Amanecer\, Calle 41 Nº 11-26 Sector Maraya\, Pereira\, Risaralda\, 660001\, Colombia
END:VEVENT
BEGIN:VEVENT
DTSTART;TZID=America/Bogota:20211015T190000
DTEND;TZID=America/Bogota:20211015T210000
DTSTAMP:20260420T113941
CREATED:20211008T150104Z
LAST-MODIFIED:20211008T172142Z
UID:842-1634324400-1634331600@nuevoamanecerpereira.com
SUMMARY:Seminario de Cosmovisión
DESCRIPTION:Inscríbete a nuestro seminario de cosmovisión bíblica: Viviendo el mundo desde la perspectiva bíblica.  \nEste seminario será dado por los misioneros de Jucum. \nInscríbete llenando el siguiente formulario: \n\n\n  \n\n\n\n Nombres\n \n \n Apellidos\n \n \n Email\n \n \n Cedula\n \n \n Celular\n \n \n Dirección\n \n \n Ha tenido usted contacto con personas que hayan sido diagnosticadas o tengan sintomas de Covid-19 en los últimos 10 días?\nSiNo \n \n Ha sido usted diagnosticado con Covid-19 o ha presentado los sintomas de este en los últimos 10 días?\nSiNo \n \n[counter formid:841]
URL:https://nuevoamanecerpereira.com/eventos/seminario-de-cosmovision/
LOCATION:Auditorio Nuevo Amanecer\, Calle 41 Nº 11-26 Sector Maraya\, Pereira\, Risaralda\, 660001\, Colombia
END:VEVENT
BEGIN:VEVENT
DTSTART;VALUE=DATE:20211003
DTEND;VALUE=DATE:20211018
DTSTAMP:20260420T113941
CREATED:20211003T045523Z
LAST-MODIFIED:20211003T122957Z
UID:275-1633219200-1634515199@nuevoamanecerpereira.com
SUMMARY:Inicio Solicitud de Membresía
DESCRIPTION:Llena tu solicitud de membresía haciendo click aquí.
URL:https://nuevoamanecerpereira.com/eventos/inicio-solicitud-de-membresia/
LOCATION:Auditorio Nuevo Amanecer\, Calle 41 Nº 11-26 Sector Maraya\, Pereira\, Risaralda\, 660001\, Colombia
ORGANIZER;CN="Andres Diaz":MAILTO:info@nuevoamanecerpereira.com
END:VEVENT
BEGIN:VEVENT
DTSTART;VALUE=DATE:20211002
DTEND;VALUE=DATE:20211004
DTSTAMP:20260420T113941
CREATED:20211003T045753Z
LAST-MODIFIED:20211003T045753Z
UID:279-1633201200-1633287599@nuevoamanecerpereira.com
SUMMARY:Lanzamiento Pagina Web
DESCRIPTION:
URL:https://nuevoamanecerpereira.com/eventos/lanzamiento-pagina-web/
LOCATION:Auditorio Nuevo Amanecer\, Calle 41 Nº 11-26 Sector Maraya\, Pereira\, Risaralda\, 660001\, Colombia
END:VEVENT
END:VCALENDAR